Workbook

Sheet Danh sách 
A1: Danh sách đóng đảng phí Đảng viên Chi bộ 1
C2: Tháng 1 | D2: Tháng 2 | E2: Tháng 3 | F2: Tháng 4 | G2: Tháng 5 | H2: Tháng 6 | I2: Tháng 7 | J2: Tháng 8 | K2: Tháng 9 | L2: Tháng 10 | M2: Tháng 11 | N2: Tháng 12
A3: 1 | B3: Trịnh Hoàng Hiệp | C3: 65250.08 | D3: 65250.08 | E3: 65250.08 | F3: 65832.67 | G3: 65832.67 | H3: 65832.67
A4: 2 | B4: Đinh Văn Đệ | C4: 99865.76 | D4: 99865.76 | E4: 99865.76 | F4: 99865.76 | G4: 99865.76 | H4: 99865.76
A5: 3 | B5: Trần Hồng Thu | C5: 61623.42 | D5: 61623.42 | E5: 61623.42 | F5: 62168.76 | G5: 62168.76 | H5: 62168.76
A6: 4 | B6: Đặng Thị Nhật Minh | C6: 97657.252 | D6: 97657.252 | E6: 97657.252 | F6: 97657.252 | G6: 97657.252 | H6: 97657.252
A7: 5 | B7: Nguyễn Thị Huyền Nga | C7: 93512.4 | D7: 93512.4 | E7: 93512.4 | F7: 93512.4 | G7: 93512.4 | H7: 93512.4
A8: 6 | B8: Phạm Thị Thu Nga | C8: 81412.11 | D8: 81412.11 | E8: 81412.11 | F8: 81412.11 | G8: 81412.11 | H8: 81412.11
A9: 7 | B9: Đỗ Thị Thơm | C9: 54082.53 | D9: 54082.53 | E9: 54082.53 | F9: 54082.53 | G9: 54082.53 | H9: 54082.53
A10: 8 | B10: Nguyễn Thanh Tú | C10: 89042.4 | D10: 89042.4 | E10: 89042.4 | F10: 89042.4 | G10: 89042.4 | H10: 89042.4
A11: 9 | B11: Đỗ Tuấn Việt | C11: 67975.29 | D11: 67975.29 | E11: 57867 | F11: 67975.29 | G11: 67975.29 | H11: 0
A12: 10 | B12: Lê Thị Mai Hường | C12: 54082.53 | D12: 54082.53 | E12: 54082.53 | F12: 54082.53 | G12: 54082.53 | H12: 54082.53
A13: 11 | B13: Giang Phi Hùng | C13: 55074.87 | D13: 55074.87 | E13: 55074.87 | F13: 55074.87 | G13: 55074.87 | H13: 55074.87
A14: 12 | B14: Lữ Xuân Trang | C14: 52783.25 | D14: 52299 | E14: 52299 | F14: 52783.25 | G14: 52783.25 | H14: 52783.25
... A17: 15 | B17: Cao Thị Hồng Thắm | C17: 0 | D17: 0 | E17: 54082.53 | F17: 54082.53 | G17: 54082.53 | H17: 54082.53
A18: 16
C19: =SUM(C3:C18) -> 998450.16 | D19: =SUM(D3:D18) -> 997965.91 | E19: =SUM(E3:E18) -> 1041940.2 | F19: =SUM(F3:F18) -> 1053660.6 | G19: =SUM(G3:G18) -> 1053660.6 | H19: =SUM(H3:H18) -> 985685.33 | I19: =SUM(I3:I18) -> 0 | J19: =SUM(J3:J18) -> 0 | ... N19: =SUM(N3:N18) -> 0

Sheet thang 1
A1: ĐẢNG CỘNG SẢN ViỆT NAM
A2: Đơn vị báo cáo: Chi bộ 1
A3: Đơn vị nhận báo cáo: Đảng bộ trường CĐ Lý Tự Trọng
A4: BÁO CÁO THU, NỘP ĐẢNG PHÍ
A5: Tháng 01 năm 2020
A7: Số TT | B7: Chỉ tiêu | C7: Đơn vị tính | D7: Mã số | E7: Đảng bộ xã, phường, thị trấn | F7: Đảng bộ doanh nghiệp | G7: Đảng bộ khác | H7: Cộng | I7: Ghi chú
A8: A | B8: B | C8: C | D8: D | E8: 1 | F8: 2 | G8: 3 | H8: 4=1+2+3 | I8: E
A9: I | B9: Tổng số đảng viên đến cuối kỳ báo cáo | C9: Người | D9: 1 | G9: 11
A10: II | B10: Đảng phí đã thu được từ chi bộ của cấp báo cáo | C10: Đồng
A11: 1 | B11: Kỳ báo cáo | C11: Đồng | D11: 2 | G11: ='Danh sách '!C19 -> 998450.16
A12: 2 | B12: Từ đầu năm đến cuối kỳ báo cáo | C12: Đồng | D12: 3 | G12: =G11 -> 998450.16
A13: III | B13: Đảng phí trích giữ lại ở các cấp | C13: Đồng
A14: 1 | B14: Kỳ báo cáo (05+06+07) | C14: Đồng | D14: 4 | G14: =G15+G16+G17 -> 998450.16
A15: 1.1 | B15: Chi bộ, Đảng bộ bộ phận | C15: Đồng | D15: 5 | G15: =G11*0.3 -> 299535.05
A16: 1.2 | B16: Tổ chức cơ sở Đảng | C16: Đồng | D16: 6
A17: 1.3 | B17: Các cấp trên cơ sở | C17: Đồng | D17: 7 | G17: =G11*0.7 -> 698915.11
A18: 2 | B18: Từ đầu năm đến cuối kỳ báo cáo (09+10+11) | C18: Đồng | D18: 8 | G18: =G19+G20+G21 -> 998450.16
A19: 2.1 | B19: Chi bộ, Đảng bộ bộ phận | C19: Đồng | D19: 9 | G19: =G12*0.3 -> 299535.05
A20: 2.2 | B20: Tổ chức cơ sở Đảng | C20: Đồng | D20: 10
A21: 2.3 | B21: Các cấp trên cơ sở | C21: Đồng | D21: 11 | G21: =G12*0.7 -> 698915.11
A22: IV | B22: Đảng phí nộp cấp trên của cấp báo cáo | C22: Đồng
A23: 1 | B23: Kỳ báo cáo (02-04) | C23: Đồng | D23: 12 | G23: =G17 -> 698915.11
A24: 2 | B24: Từ đầu năm đến cuối kỳ báo cáo (03-08) | C24: Đồng | D24: 13 | G24: =G21 -> 698915.11
A25: V | B25: Đảng phí còn nợ chưa nộp cấp trên đến cuối kỳ báo cáo | C25: Đồng | D25: 14
G26: Ngày tháng năm 2020
B27: Người lập | G27: T/M Cấp ủy
G28: Bí thư
B32: Đỗ Thị Thơm | G32: Đặng Thị Nhật Minh

Sheet thang 2
A1: ĐẢNG CỘNG SẢN ViỆT NAM
A2: Đơn vị báo cáo: Chi bộ 1
A3: Đơn vị nhận báo cáo: Đảng bộ trường CĐ Lý Tự Trọng
A4: BÁO CÁO THU, NỘP ĐẢNG PHÍ
A5: Tháng 02 năm 2020
A7: Số TT | B7: Chỉ tiêu | C7: Đơn vị tính | D7: Mã số | E7: Đảng bộ xã, phường, thị trấn | F7: Đảng bộ doanh nghiệp | G7: Đảng bộ khác | H7: Cộng | I7: Ghi chú
A8: A | B8: B | C8: C | D8: D | E8: 1 | F8: 2 | G8: 3 | H8: 4=1+2+3 | I8: E
A9: I | B9: Tổng số đảng viên đến cuối kỳ báo cáo | C9: Người | D9: 1 | G9: 11
A10: II | B10: Đảng phí đã thu được từ chi bộ của cấp báo cáo | C10: Đồng
A11: 1 | B11: Kỳ báo cáo | C11: Đồng | D11: 2 | G11: ='Danh sách '!D19 -> 997965.91
A12: 2 | B12: Từ đầu năm đến cuối kỳ báo cáo | C12: Đồng | D12: 3 | G12: ='thang 1'!G12+'thang 2'!G11 -> 1996416.1
A13: III | B13: Đảng phí trích giữ lại ở các cấp | C13: Đồng
A14: 1 | B14: Kỳ báo cáo (05+06+07) | C14: Đồng | D14: 4 | G14: =G15+G16+G17 -> 997965.91
A15: 1.1 | B15: Chi bộ, Đảng bộ bộ phận | C15: Đồng | D15: 5 | G15: =G11*0.3 -> 299389.77
A16: 1.2 | B16: Tổ chức cơ sở Đảng | C16: Đồng | D16: 6
A17: 1.3 | B17: Các cấp trên cơ sở | C17: Đồng | D17: 7 | G17: =G11*0.7 -> 698576.14
A18: 2 | B18: Từ đầu năm đến cuối kỳ báo cáo (09+10+11) | C18: Đồng | D18: 8 | G18: =G19+G20+G21 -> 1996416.1
A19: 2.1 | B19: Chi bộ, Đảng bộ bộ phận | C19: Đồng | D19: 9 | G19: =G12*0.3 -> 598924.82
A20: 2.2 | B20: Tổ chức cơ sở Đảng | C20: Đồng | D20: 10
A21: 2.3 | B21: Các cấp trên cơ sở | C21: Đồng | D21: 11 | G21: =G12*0.7 -> 1397491.3
A22: IV | B22: Đảng phí nộp cấp trên của cấp báo cáo | C22: Đồng
A23: 1 | B23: Kỳ báo cáo (02-04) | C23: Đồng | D23: 12 | G23: =G17 -> 698576.14
A24: 2 | B24: Từ đầu năm đến cuối kỳ báo cáo (03-08) | C24: Đồng | D24: 13 | G24: =G21 -> 1397491.3
A25: V | B25: Đảng phí còn nợ chưa nộp cấp trên đến cuối kỳ báo cáo | C25: Đồng | D25: 14
G26: Ngày tháng năm 2020
B27: Người lập | G27: T/M Cấp ủy
G28: Bí thư
B32: Đỗ Thị Thơm | G32: Đặng Thị Nhật Minh

Sheet thang 3
A1: ĐẢNG CỘNG SẢN ViỆT NAM
A2: Đơn vị báo cáo: Chi bộ 1
A3: Đơn vị nhận báo cáo: Đảng bộ trường CĐ Lý Tự Trọng
A4: BÁO CÁO THU, NỘP ĐẢNG PHÍ
A5: Tháng 03 năm 2020
A7: Số TT | B7: Chỉ tiêu | C7: Đơn vị tính | D7: Mã số | E7: Đảng bộ xã, phường, thị trấn | F7: Đảng bộ doanh nghiệp | G7: Đảng bộ khác | H7: Cộng | I7: Ghi chú
A8: A | B8: B | C8: C | D8: D | E8: 1 | F8: 2 | G8: 3 | H8: 4=1+2+3 | I8: E
A9: I | B9: Tổng số đảng viên đến cuối kỳ báo cáo | C9: Người | D9: 1 | G9: 10
A10: II | B10: Đảng phí đã thu được từ chi bộ của cấp báo cáo | C10: Đồng
A11: 1 | B11: Kỳ báo cáo | C11: Đồng | D11: 2 | G11: ='Danh sách '!E19 -> 1041940.2
A12: 2 | B12: Từ đầu năm đến cuối kỳ báo cáo | C12: Đồng | D12: 3 | G12: ='thang 2'!G12+'thang 3'!G11 -> 3038356.2
A13: III | B13: Đảng phí trích giữ lại ở các cấp | C13: Đồng
A14: 1 | B14: Kỳ báo cáo (05+06+07) | C14: Đồng | D14: 4 | G14: =G15+G16+G17 -> 1041940.2
A15: 1.1 | B15: Chi bộ, Đảng bộ bộ phận | C15: Đồng | D15: 5 | G15: =G11*0.3 -> 312582.05
A16: 1.2 | B16: Tổ chức cơ sở Đảng | C16: Đồng | D16: 6
A17: 1.3 | B17: Các cấp trên cơ sở | C17: Đồng | D17: 7 | G17: =G11*0.7 -> 729358.11
A18: 2 | B18: Từ đầu năm đến cuối kỳ báo cáo (09+10+11) | C18: Đồng | D18: 8 | G18: =G19+G20+G21 -> 3038356.2
A19: 2.1 | B19: Chi bộ, Đảng bộ bộ phận | C19: Đồng | D19: 9 | G19: =G12*0.3 -> 911506.87
A20: 2.2 | B20: Tổ chức cơ sở Đảng | C20: Đồng | D20: 10
A21: 2.3 | B21: Các cấp trên cơ sở | C21: Đồng | D21: 11 | G21: =G12*0.7 -> 2126849.4
A22: IV | B22: Đảng phí nộp cấp trên của cấp báo cáo | C22: Đồng
A23: 1 | B23: Kỳ báo cáo (02-04) | C23: Đồng | D23: 12 | G23: =G17 -> 729358.11
A24: 2 | B24: Từ đầu năm đến cuối kỳ báo cáo (03-08) | C24: Đồng | D24: 13 | G24: =G21 -> 2126849.4
A25: V | B25: Đảng phí còn nợ chưa nộp cấp trên đến cuối kỳ báo cáo | C25: Đồng | D25: 14
G26: Ngày tháng năm 2020
B27: Người lập | G27: T/M Cấp ủy
G28: Bí thư
B32: Đỗ Thị Thơm | G32: Đặng Thị Nhật Minh

Sheet QUY I
A1: ĐẢNG CỘNG SẢN ViỆT NAM
A2: Đơn vị báo cáo: Chi bộ 1
A3: Đơn vị nhận báo cáo: Đảng bộ trường CĐ Lý Tự Trọng
A4: BÁO CÁO THU, NỘP ĐẢNG PHÍ
A5: Quí 01 năm 2020
A7: Số TT | B7: Chỉ tiêu | C7: Đơn vị tính | D7: Mã số | E7: Đảng bộ xã, phường, thị trấn | F7: Đảng bộ doanh nghiệp | G7: Đảng bộ khác | H7: Cộng | I7: Ghi chú
A8: A | B8: B | C8: C | D8: D | E8: 1 | F8: 2 | G8: 3 | H8: 4=1+2+3 | I8: E
A9: I | B9: Tổng số đảng viên đến cuối kỳ báo cáo | C9: Người | D9: 1 | G9: 15
A10: II | B10: Đảng phí đã thu được từ chi bộ của cấp báo cáo | C10: Đồng
A11: 1 | B11: Kỳ báo cáo | C11: Đồng | D11: 2 | G11: ='thang 1'!G11+'thang 2'!G11+'thang 3'!G11 -> 3038356.2
A12: 2 | B12: Từ đầu năm đến cuối kỳ báo cáo | C12: Đồng | D12: 3 | G12: =G11 -> 3038356.2
A13: III | B13: Đảng phí trích giữ lại ở các cấp | C13: Đồng
A14: 1 | B14: Kỳ báo cáo (05+06+07) | C14: Đồng | D14: 4 | G14: =G15+G16+G17 -> 3038356.2
A15: 1.1 | B15: Chi bộ, Đảng bộ bộ phận | C15: Đồng | D15: 5 | G15: =G11*0.3 -> 911506.87
A16: 1.2 | B16: Tổ chức cơ sở Đảng | C16: Đồng | D16: 6
A17: 1.3 | B17: Các cấp trên cơ sở | C17: Đồng | D17: 7 | G17: =G11*0.7 -> 2126849.4
A18: 2 | B18: Từ đầu năm đến cuối kỳ báo cáo (09+10+11) | C18: Đồng | D18: 8 | G18: =G19+G20+G21 -> 3038356.2
A19: 2.1 | B19: Chi bộ, Đảng bộ bộ phận | C19: Đồng | D19: 9 | G19: =G12*0.3 -> 911506.87
A20: 2.2 | B20: Tổ chức cơ sở Đảng | C20: Đồng | D20: 10
A21: 2.3 | B21: Các cấp trên cơ sở | C21: Đồng | D21: 11 | G21: =G12*0.7 -> 2126849.4
A22: IV | B22: Đảng phí nộp cấp trên của cấp báo cáo | C22: Đồng
A23: 1 | B23: Kỳ báo cáo (02-04) | C23: Đồng | D23: 12 | G23: =G17 -> 2126849.4
A24: 2 | B24: Từ đầu năm đến cuối kỳ báo cáo (03-08) | C24: Đồng | D24: 13 | G24: =G21 -> 2126849.4
A25: V | B25: Đảng phí còn nợ chưa nộp cấp trên đến cuối kỳ báo cáo | C25: Đồng | D25: 14
G26: Ngày tháng năm 2020
B27: Người lập | G27: T/M Cấp ủy
G28: Bí thư
B31: Đỗ Thị Thơm | G31: Đặng Thị Nhật Minh

Sheet thang 4
A1: ĐẢNG CỘNG SẢN ViỆT NAM
A2: Đơn vị báo cáo: Chi bộ 1
A3: Đơn vị nhận báo cáo: Đảng bộ trường CĐ Lý Tự Trọng
A4: BÁO CÁO THU, NỘP ĐẢNG PHÍ
A5: Tháng 04 năm 2020
A7: Số TT | B7: Chỉ tiêu | C7: Đơn vị tính | D7: Mã số | E7: Đảng bộ xã, phường, thị trấn | F7: Đảng bộ doanh nghiệp | G7: Đảng bộ khác | H7: Cộng | I7: Ghi chú
A8: A | B8: B | C8: C | D8: D | E8: 1 | F8: 2 | G8: 3 | H8: 4=1+2+3 | I8: E
A9: I | B9: Tổng số đảng viên đến cuối kỳ báo cáo | C9: Người | D9: 1 | G9: 15
A10: II | B10: Đảng phí đã thu được từ chi bộ của cấp báo cáo | C10: Đồng
A11: 1 | B11: Kỳ báo cáo | C11: Đồng | D11: 2 | G11: ='Danh sách '!F19 -> 1053660.6
A12: 2 | B12: Từ đầu năm đến cuối kỳ báo cáo | C12: Đồng | D12: 3 | G12: ='thang 3'!G12+'thang 4'!G11 -> 4092016.8
A13: III | B13: Đảng phí trích giữ lại ở các cấp | C13: Đồng
A14: 1 | B14: Kỳ báo cáo (05+06+07) | C14: Đồng | D14: 4 | G14: =G15+G16+G17 -> 1053660.6
A15: 1.1 | B15: Chi bộ, Đảng bộ bộ phận | C15: Đồng | D15: 5 | G15: =G11*0.3 -> 316098.19
A16: 1.2 | B16: Tổ chức cơ sở Đảng | C16: Đồng | D16: 6
A17: 1.3 | B17: Các cấp trên cơ sở | C17: Đồng | D17: 7 | G17: =G11*0.7 -> 737562.44
A18: 2 | B18: Từ đầu năm đến cuối kỳ báo cáo (09+10+11) | C18: Đồng | D18: 8 | G18: =G19+G20+G21 -> 4092016.8
A19: 2.1 | B19: Chi bộ, Đảng bộ bộ phận | C19: Đồng | D19: 9 | G19: =G12*0.3 -> 1227605.1
A20: 2.2 | B20: Tổ chức cơ sở Đảng | C20: Đồng | D20: 10
A21: 2.3 | B21: Các cấp trên cơ sở | C21: Đồng | D21: 11 | G21: =G12*0.7 -> 2864411.8
A22: IV | B22: Đảng phí nộp cấp trên của cấp báo cáo | C22: Đồng
A23: 1 | B23: Kỳ báo cáo (02-04) | C23: Đồng | D23: 12 | G23: =G17 -> 737562.44
A24: 2 | B24: Từ đầu năm đến cuối kỳ báo cáo (03-08) | C24: Đồng | D24: 13 | G24: =G21 -> 2864411.8
A25: V | B25: Đảng phí còn nợ chưa nộp cấp trên đến cuối kỳ báo cáo | C25: Đồng | D25: 14
G26: Ngày 16 tháng 6 năm 2020
B27: Người lập | G27: T/M Cấp ủy
G28: Bí thư
B32: Đỗ Thị Thơm | G32: Đặng Thị Nhật Minh

Sheet thang 5
A1: ĐẢNG CỘNG SẢN ViỆT NAM
A2: Đơn vị báo cáo: Chi bộ 1
A3: Đơn vị nhận báo cáo: Đảng bộ trường CĐ Lý Tự Trọng
A4: BÁO CÁO THU, NỘP ĐẢNG PHÍ
A5: Tháng 05 năm 2020
A7: Số TT | B7: Chỉ tiêu | C7: Đơn vị tính | D7: Mã số | E7: Đảng bộ xã, phường, thị trấn | F7: Đảng bộ doanh nghiệp | G7: Đảng bộ khác | H7: Cộng | I7: Ghi chú
A8: A | B8: B | C8: C | D8: D | E8: 1 | F8: 2 | G8: 3 | H8: 4=1+2+3 | I8: E
A9: I | B9: Tổng số đảng viên đến cuối kỳ báo cáo | C9: Người | D9: 1 | G9: 15
A10: II | B10: Đảng phí đã thu được từ chi bộ của cấp báo cáo | C10: Đồng
A11: 1 | B11: Kỳ báo cáo | C11: Đồng | D11: 2 | G11: ='Danh sách '!G19 -> 1053660.6
A12: 2 | B12: Từ đầu năm đến cuối kỳ báo cáo | C12: Đồng | D12: 3 | G12: ='thang 4'!G12+'thang 5'!G11 -> 5145677.5
A13: III | B13: Đảng phí trích giữ lại ở các cấp | C13: Đồng
A14: 1 | B14: Kỳ báo cáo (05+06+07) | C14: Đồng | D14: 4 | G14: =G15+G16+G17 -> 1053660.6
A15: 1.1 | B15: Chi bộ, Đảng bộ bộ phận | C15: Đồng | D15: 5 | G15: =G11*0.3 -> 316098.19
A16: 1.2 | B16: Tổ chức cơ sở Đảng | C16: Đồng | D16: 6
A17: 1.3 | B17: Các cấp trên cơ sở | C17: Đồng | D17: 7 | G17: =G11*0.7 -> 737562.44
A18: 2 | B18: Từ đầu năm đến cuối kỳ báo cáo (09+10+11) | C18: Đồng | D18: 8 | G18: =G19+G20+G21 -> 5145677.5
A19: 2.1 | B19: Chi bộ, Đảng bộ bộ phận | C19: Đồng | D19: 9 | G19: =G12*0.3 -> 1543703.2
A20: 2.2 | B20: Tổ chức cơ sở Đảng | C20: Đồng | D20: 10
A21: 2.3 | B21: Các cấp trên cơ sở | C21: Đồng | D21: 11 | G21: =G12*0.7 -> 3601974.2
A22: IV | B22: Đảng phí nộp cấp trên của cấp báo cáo | C22: Đồng
A23: 1 | B23: Kỳ báo cáo (02-04) | C23: Đồng | D23: 12 | G23: =G17 -> 737562.44
A24: 2 | B24: Từ đầu năm đến cuối kỳ báo cáo (03-08) | C24: Đồng | D24: 13 | G24: =G21 -> 3601974.2
A25: V | B25: Đảng phí còn nợ chưa nộp cấp trên đến cuối kỳ báo cáo | C25: Đồng | D25: 14
G26: Ngày 16 tháng 6 năm 2020
B27: Người lập | G27: T/M Cấp ủy
G28: Bí thư
B32: Đỗ Thị Thơm | G32: Đặng Thị Nhật Minh

Sheet thang 6
A1: ĐẢNG CỘNG SẢN ViỆT NAM
A2: Đơn vị báo cáo: Chi bộ 1
A3: Đơn vị nhận báo cáo: Đảng bộ trường CĐ Lý Tự Trọng
A4: BÁO CÁO THU, NỘP ĐẢNG PHÍ
A5: Tháng 06 năm 2020
A7: Số TT | B7: Chỉ tiêu | C7: Đơn vị tính | D7: Mã số | E7: Đảng bộ xã, phường, thị trấn | F7: Đảng bộ doanh nghiệp | G7: Đảng bộ khác | H7: Cộng | I7: Ghi chú
A8: A | B8: B | C8: C | D8: D | E8: 1 | F8: 2 | G8: 3 | H8: 4=1+2+3 | I8: E
A9: I | B9: Tổng số đảng viên đến cuối kỳ báo cáo | C9: Người | D9: 1 | G9: 14
A10: II | B10: Đảng phí đã thu được từ chi bộ của cấp báo cáo | C10: Đồng
A11: 1 | B11: Kỳ báo cáo | C11: Đồng | D11: 2 | G11: ='Danh sách '!H19 -> 985685.33
A12: 2 | B12: Từ đầu năm đến cuối kỳ báo cáo | C12: Đồng | D12: 3 | G12: ='thang 5'!G12+'thang 6'!G11 -> 6131362.8
A13: III | B13: Đảng phí trích giữ lại ở các cấp | C13: Đồng
A14: 1 | B14: Kỳ báo cáo (05+06+07) | C14: Đồng | D14: 4 | G14: =G15+G16+G17 -> 985685.33
A15: 1.1 | B15: Chi bộ, Đảng bộ bộ phận | C15: Đồng | D15: 5 | G15: =G11*0.3 -> 295705.6
A16: 1.2 | B16: Tổ chức cơ sở Đảng | C16: Đồng | D16: 6
A17: 1.3 | B17: Các cấp trên cơ sở | C17: Đồng | D17: 7 | G17: =G11*0.7 -> 689979.73
A18: 2 | B18: Từ đầu năm đến cuối kỳ báo cáo (09+10+11) | C18: Đồng | D18: 8 | G18: =G19+G20+G21 -> 6131362.8
A19: 2.1 | B19: Chi bộ, Đảng bộ bộ phận | C19: Đồng | D19: 9 | G19: =G12*0.3 -> 1839408.8
A20: 2.2 | B20: Tổ chức cơ sở Đảng | C20: Đồng | D20: 10
A21: 2.3 | B21: Các cấp trên cơ sở | C21: Đồng | D21: 11 | G21: =G12*0.7 -> 4291954
A22: IV | B22: Đảng phí nộp cấp trên của cấp báo cáo | C22: Đồng
A23: 1 | B23: Kỳ báo cáo (02-04) | C23: Đồng | D23: 12 | G23: =G17 -> 689979.73
A24: 2 | B24: Từ đầu năm đến cuối kỳ báo cáo (03-08) | C24: Đồng | D24: 13 | G24: =G21 -> 4291954
A25: V | B25: Đảng phí còn nợ chưa nộp cấp trên đến cuối kỳ báo cáo | C25: Đồng | D25: 14
G26: Ngày 16 tháng 6 năm 2020
B27: Người lập | G27: T/M Cấp ủy
G28: Bí thư
B32: Đỗ Thị Thơm | G32: Đặng Thị Nhật Minh

Sheet QUY II
A1: ĐẢNG CỘNG SẢN ViỆT NAM
A2: Đơn vị báo cáo: Chi bộ 1
A3: Đơn vị nhận báo cáo: Đảng bộ trường CĐ Lý Tự Trọng
A4: BÁO CÁO THU, NỘP ĐẢNG PHÍ
A5: Quí 02 năm 2020
A7: Số TT | B7: Chỉ tiêu | C7: Đơn vị tính | D7: Mã số | E7: Đảng bộ xã, phường, thị trấn | F7: Đảng bộ doanh nghiệp | G7: Đảng bộ khác | H7: Cộng | I7: Ghi chú
A8: A | B8: B | C8: C | D8: D | E8: 1 | F8: 2 | G8: 3 | H8: 4=1+2+3 | I8: E
A9: I | B9: Tổng số đảng viên đến cuối kỳ báo cáo | C9: Người | D9: 1 | G9: 14
A10: II | B10: Đảng phí đã thu được từ chi bộ của cấp báo cáo | C10: Đồng
A11: 1 | B11: Kỳ báo cáo | C11: Đồng | D11: 2 | G11: ='thang 4'!G11+'thang 5'!G11+'thang 6'!G11 -> 3093006.6
A12: 2 | B12: Từ đầu năm đến cuối kỳ báo cáo | C12: Đồng | D12: 3 | G12: =G11+'QUY I'!G12 -> 6131362.8
A13: III | B13: Đảng phí trích giữ lại ở các cấp | C13: Đồng
A14: 1 | B14: Kỳ báo cáo (05+06+07) | C14: Đồng | D14: 4 | G14: =G15+G16+G17 -> 3093006.6
A15: 1.1 | B15: Chi bộ, Đảng bộ bộ phận | C15: Đồng | D15: 5 | G15: =G11*0.3 -> 927901.97
A16: 1.2 | B16: Tổ chức cơ sở Đảng | C16: Đồng | D16: 6
A17: 1.3 | B17: Các cấp trên cơ sở | C17: Đồng | D17: 7 | G17: =G11*0.7 -> 2165104.6
A18: 2 | B18: Từ đầu năm đến cuối kỳ báo cáo (09+10+11) | C18: Đồng | D18: 8 | G18: =G19+G20+G21 -> 6131362.8
A19: 2.1 | B19: Chi bộ, Đảng bộ bộ phận | C19: Đồng | D19: 9 | G19: =G12*0.3 -> 1839408.8
A20: 2.2 | B20: Tổ chức cơ sở Đảng | C20: Đồng | D20: 10
A21: 2.3 | B21: Các cấp trên cơ sở | C21: Đồng | D21: 11 | G21: =G12*0.7 -> 4291954
A22: IV | B22: Đảng phí nộp cấp trên của cấp báo cáo | C22: Đồng
A23: 1 | B23: Kỳ báo cáo (02-04) | C23: Đồng | D23: 12 | G23: =G17 -> 2165104.6
A24: 2 | B24: Từ đầu năm đến cuối kỳ báo cáo (03-08) | C24: Đồng | D24: 13 | G24: =G21 -> 4291954
A25: V | B25: Đảng phí còn nợ chưa nộp cấp trên đến cuối kỳ báo cáo | C25: Đồng | D25: 14
G26: Ngày 16 tháng 6 năm 2020
B27: Người lập | G27: T/M Cấp ủy
G28: Bí thư
B31: Đỗ Thị Thơm | G31: Đặng Thị Nhật Minh

Sheet thang 7
A1: ĐẢNG CỘNG SẢN ViỆT NAM
A2: Đơn vị báo cáo: Chi bộ 1
A3: Đơn vị nhận báo cáo: Đảng bộ trường CĐ Lý Tự Trọng
A4: BÁO CÁO THU, NỘP ĐẢNG PHÍ
A5: Tháng 07 năm 2020
A7: Số TT | B7: Chỉ tiêu | C7: Đơn vị tính | D7: Mã số | E7: Đảng bộ xã, phường, thị trấn | F7: Đảng bộ doanh nghiệp | G7: Đảng bộ khác | H7: Cộng | I7: Ghi chú
A8: A | B8: B | C8: C | D8: D | E8: 1 | F8: 2 | G8: 3 | H8: 4=1+2+3 | I8: E
A9: I | B9: Tổng số đảng viên đến cuối kỳ báo cáo | C9: Người | D9: 1 | G9: 14
A10: II | B10: Đảng phí đã thu được từ chi bộ của cấp báo cáo | C10: Đồng
A11: 1 | B11: Kỳ báo cáo | C11: Đồng | D11: 2 | G11: ='Danh sách '!I19 -> 0
A12: 2 | B12: Từ đầu năm đến cuối kỳ báo cáo | C12: Đồng | D12: 3 | G12: ='thang 7'!G11+'thang 6'!G12 -> 6131362.8
A13: III | B13: Đảng phí trích giữ lại ở các cấp | C13: Đồng
A14: 1 | B14: Kỳ báo cáo (05+06+07) | C14: Đồng | D14: 4 | G14: =G15+G16+G17 -> 0
A15: 1.1 | B15: Chi bộ, Đảng bộ bộ phận | C15: Đồng | D15: 5 | G15: =G11*0.3 -> 0
A16: 1.2 | B16: Tổ chức cơ sở Đảng | C16: Đồng | D16: 6
A17: 1.3 | B17: Các cấp trên cơ sở | C17: Đồng | D17: 7 | G17: =G11*0.7 -> 0
A18: 2 | B18: Từ đầu năm đến cuối kỳ báo cáo (09+10+11) | C18: Đồng | D18: 8 | G18: =G19+G20+G21 -> 6131362.8
A19: 2.1 | B19: Chi bộ, Đảng bộ bộ phận | C19: Đồng | D19: 9 | G19: =G12*0.3 -> 1839408.8
A20: 2.2 | B20: Tổ chức cơ sở Đảng | C20: Đồng | D20: 10
A21: 2.3 | B21: Các cấp trên cơ sở | C21: Đồng | D21: 11 | G21: =G12*0.7 -> 4291954
A22: IV | B22: Đảng phí nộp cấp trên của cấp báo cáo | C22: Đồng
A23: 1 | B23: Kỳ báo cáo (02-04) | C23: Đồng | D23: 12 | G23: =G17 -> 0
A24: 2 | B24: Từ đầu năm đến cuối kỳ báo cáo (03-08) | C24: Đồng | D24: 13 | G24: =G21 -> 4291954
A25: V | B25: Đảng phí còn nợ chưa nộp cấp trên đến cuối kỳ báo cáo | C25: Đồng | D25: 14
G26: Ngày tháng năm 2020
B27: Người lập | G27: T/M Cấp ủy
G28: Bí thư
B32: Đỗ Thị Thơm | G32: Đặng Thị Nhật Minh

Sheet thang 8
A1: ĐẢNG CỘNG SẢN ViỆT NAM
A2: Đơn vị báo cáo: Chi bộ 1
A3: Đơn vị nhận báo cáo: Đảng bộ trường CĐ Lý Tự Trọng
A4: BÁO CÁO THU, NỘP ĐẢNG PHÍ
A5: Tháng 08 năm 2020
A7: Số TT | B7: Chỉ tiêu | C7: Đơn vị tính | D7: Mã số | E7: Đảng bộ xã, phường, thị trấn | F7: Đảng bộ doanh nghiệp | G7: Đảng bộ khác | H7: Cộng | I7: Ghi chú
A8: A | B8: B | C8: C | D8: D | E8: 1 | F8: 2 | G8: 3 | H8: 4=1+2+3 | I8: E
A9: I | B9: Tổng số đảng viên đến cuối kỳ báo cáo | C9: Người | D9: 1 | G9: 15
A10: II | B10: Đảng phí đã thu được từ chi bộ của cấp báo cáo | C10: Đồng
A11: 1 | B11: Kỳ báo cáo | C11: Đồng | D11: 2 | G11: ='Danh sách '!J19 -> 0
A12: 2 | B12: Từ đầu năm đến cuối kỳ báo cáo | C12: Đồng | D12: 3 | G12: ='thang 7'!G12+'thang 8'!G11 -> 6131362.8
A13: III | B13: Đảng phí trích giữ lại ở các cấp | C13: Đồng
A14: 1 | B14: Kỳ báo cáo (05+06+07) | C14: Đồng | D14: 4 | G14: =G15+G16+G17 -> 0
A15: 1.1 | B15: Chi bộ, Đảng bộ bộ phận | C15: Đồng | D15: 5 | G15: =G11*0.3 -> 0
A16: 1.2 | B16: Tổ chức cơ sở Đảng | C16: Đồng | D16: 6
A17: 1.3 | B17: Các cấp trên cơ sở | C17: Đồng | D17: 7 | G17: =G11*0.7 -> 0
A18: 2 | B18: Từ đầu năm đến cuối kỳ báo cáo (09+10+11) | C18: Đồng | D18: 8 | G18: =G19+G20+G21 -> 6131362.8
A19: 2.1 | B19: Chi bộ, Đảng bộ bộ phận | C19: Đồng | D19: 9 | G19: =G12*0.3 -> 1839408.8
A20: 2.2 | B20: Tổ chức cơ sở Đảng | C20: Đồng | D20: 10
A21: 2.3 | B21: Các cấp trên cơ sở | C21: Đồng | D21: 11 | G21: =G12*0.7 -> 4291954
A22: IV | B22: Đảng phí nộp cấp trên của cấp báo cáo | C22: Đồng
A23: 1 | B23: Kỳ báo cáo (02-04) | C23: Đồng | D23: 12 | G23: =G17 -> 0
A24: 2 | B24: Từ đầu năm đến cuối kỳ báo cáo (03-08) | C24: Đồng | D24: 13 | G24: =G21 -> 4291954
A25: V | B25: Đảng phí còn nợ chưa nộp cấp trên đến cuối kỳ báo cáo | C25: Đồng | D25: 14
G26: Ngày tháng năm 2020
B27: Người lập | G27: T/M Cấp ủy
G28: Bí thư
B32: Đỗ Thị Thơm | G32: Đặng Thị Nhật Minh

Sheet thang 9
A1: ĐẢNG CỘNG SẢN ViỆT NAM
A2: Đơn vị báo cáo: Chi bộ 1
A3: Đơn vị nhận báo cáo: Đảng bộ trường CĐ Lý Tự Trọng
A4: BÁO CÁO THU, NỘP ĐẢNG PHÍ
A5: Tháng 09 năm 2020
A7: Số TT | B7: Chỉ tiêu | C7: Đơn vị tính | D7: Mã số | E7: Đảng bộ xã, phường, thị trấn | F7: Đảng bộ doanh nghiệp | G7: Đảng bộ khác | H7: Cộng | I7: Ghi chú
A8: A | B8: B | C8: C | D8: D | E8: 1 | F8: 2 | G8: 3 | H8: 4=1+2+3 | I8: E
A9: I | B9: Tổng số đảng viên đến cuối kỳ báo cáo | C9: Người | D9: 1 | G9: 15
A10: II | B10: Đảng phí đã thu được từ chi bộ của cấp báo cáo | C10: Đồng
A11: 1 | B11: Kỳ báo cáo | C11: Đồng | D11: 2 | G11: ='Danh sách '!K19 -> 0
A12: 2 | B12: Từ đầu năm đến cuối kỳ báo cáo | C12: Đồng | D12: 3 | G12: ='thang 8'!G12+'thang 9'!G11 -> 6131362.8
A13: III | B13: Đảng phí trích giữ lại ở các cấp | C13: Đồng
A14: 1 | B14: Kỳ báo cáo (05+06+07) | C14: Đồng | D14: 4 | G14: =G15+G16+G17 -> 0
A15: 1.1 | B15: Chi bộ, Đảng bộ bộ phận | C15: Đồng | D15: 5 | G15: =G11*0.3 -> 0
A16: 1.2 | B16: Tổ chức cơ sở Đảng | C16: Đồng | D16: 6
A17: 1.3 | B17: Các cấp trên cơ sở | C17: Đồng | D17: 7 | G17: =G11*0.7 -> 0
A18: 2 | B18: Từ đầu năm đến cuối kỳ báo cáo (09+10+11) | C18: Đồng | D18: 8 | G18: =G19+G20+G21 -> 6131362.8
A19: 2.1 | B19: Chi bộ, Đảng bộ bộ phận | C19: Đồng | D19: 9 | G19: =G12*0.3 -> 1839408.8
A20: 2.2 | B20: Tổ chức cơ sở Đảng | C20: Đồng | D20: 10
A21: 2.3 | B21: Các cấp trên cơ sở | C21: Đồng | D21: 11 | G21: =G12*0.7 -> 4291954
A22: IV | B22: Đảng phí nộp cấp trên của cấp báo cáo | C22: Đồng
A23: 1 | B23: Kỳ báo cáo (02-04) | C23: Đồng | D23: 12 | G23: =G17 -> 0
A24: 2 | B24: Từ đầu năm đến cuối kỳ báo cáo (03-08) | C24: Đồng | D24: 13 | G24: =G21 -> 4291954
A25: V | B25: Đảng phí còn nợ chưa nộp cấp trên đến cuối kỳ báo cáo | C25: Đồng | D25: 14
G26: Ngày tháng năm 2020
B27: Người lập | G27: T/M Cấp ủy
G28: Bí thư
B32: Đỗ Thị Thơm | G32: Đặng Thị Nhật Minh

Sheet Qui 3
A1: ĐẢNG CỘNG SẢN ViỆT NAM
A2: Đơn vị báo cáo: Chi bộ 1
A3: Đơn vị nhận báo cáo: Đảng bộ trường CĐ Lý Tự Trọng
A4: BÁO CÁO THU, NỘP ĐẢNG PHÍ
A5: Quí 03 năm 2020
A7: Số TT | B7: Chỉ tiêu | C7: Đơn vị tính | D7: Mã số | E7: Đảng bộ xã, phường, thị trấn | F7: Đảng bộ doanh nghiệp | G7: Đảng bộ khác | H7: Cộng | I7: Ghi chú
A8: A | B8: B | C8: C | D8: D | E8: 1 | F8: 2 | G8: 3 | H8: 4=1+2+3 | I8: E
A9: I | B9: Tổng số đảng viên đến cuối kỳ báo cáo | C9: Người | D9: 1
A10: II | B10: Đảng phí đã thu được từ chi bộ của cấp báo cáo | C10: Đồng
A11: 1 | B11: Kỳ báo cáo | C11: Đồng | D11: 2 | G11: ='thang 7'!G11+'thang 8'!G11+'thang 9'!G11 -> 0
A12: 2 | B12: Từ đầu năm đến cuối kỳ báo cáo | C12: Đồng | D12: 3 | G12: =G11+'QUY II'!G12 -> 6131362.8
A13: III | B13: Đảng phí trích giữ lại ở các cấp | C13: Đồng
A14: 1 | B14: Kỳ báo cáo (05+06+07) | C14: Đồng | D14: 4 | G14: =G15+G16+G17 -> 0
A15: 1.1 | B15: Chi bộ, Đảng bộ bộ phận | C15: Đồng | D15: 5 | G15: =G11*0.3 -> 0
A16: 1.2 | B16: Tổ chức cơ sở Đảng | C16: Đồng | D16: 6
A17: 1.3 | B17: Các cấp trên cơ sở | C17: Đồng | D17: 7 | G17: =G11*0.7 -> 0
A18: 2 | B18: Từ đầu năm đến cuối kỳ báo cáo (09+10+11) | C18: Đồng | D18: 8 | G18: =G19+G20+G21 -> 6131362.8
A19: 2.1 | B19: Chi bộ, Đảng bộ bộ phận | C19: Đồng | D19: 9 | G19: =G12*0.3 -> 1839408.8
A20: 2.2 | B20: Tổ chức cơ sở Đảng | C20: Đồng | D20: 10
A21: 2.3 | B21: Các cấp trên cơ sở | C21: Đồng | D21: 11 | G21: =G12*0.7 -> 4291954
A22: IV | B22: Đảng phí nộp cấp trên của cấp báo cáo | C22: Đồng
A23: 1 | B23: Kỳ báo cáo (02-04) | C23: Đồng | D23: 12 | G23: =G17 -> 0
A24: 2 | B24: Từ đầu năm đến cuối kỳ báo cáo (03-08) | C24: Đồng | D24: 13 | G24: =G21 -> 4291954
A25: V | B25: Đảng phí còn nợ chưa nộp cấp trên đến cuối kỳ báo cáo | C25: Đồng | D25: 14
G26: Ngày tháng năm 2020
B27: Người lập | G27: T/M Cấp ủy
G28: Bí thư
B31: Đỗ Thị Thơm | G31: Đặng Thị Nhật Minh

Sheet thang 10
A1: ĐẢNG CỘNG SẢN ViỆT NAM
A2: Đơn vị báo cáo: Chi bộ 1
A3: Đơn vị nhận báo cáo: Đảng bộ trường CĐ Lý Tự Trọng
A4: BÁO CÁO THU, NỘP ĐẢNG PHÍ
A5: Tháng 10 năm 2020
A7: Số TT | B7: Chỉ tiêu | C7: Đơn vị tính | D7: Mã số | E7: Đảng bộ xã, phường, thị trấn | F7: Đảng bộ doanh nghiệp | G7: Đảng bộ khác | H7: Cộng | I7: Ghi chú
A8: A | B8: B | C8: C | D8: D | E8: 1 | F8: 2 | G8: 3 | H8: 4=1+2+3 | I8: E
A9: I | B9: Tổng số đảng viên đến cuối kỳ báo cáo | C9: Người | D9: 1
A10: II | B10: Đảng phí đã thu được từ chi bộ của cấp báo cáo | C10: Đồng
A11: 1 | B11: Kỳ báo cáo | C11: Đồng | D11: 2 | G11: ='Danh sách '!L19 -> 0
A12: 2 | B12: Từ đầu năm đến cuối kỳ báo cáo | C12: Đồng | D12: 3 | G12: ='thang 9'!G12+'thang 10'!G11 -> 6131362.8
A13: III | B13: Đảng phí trích giữ lại ở các cấp | C13: Đồng
A14: 1 | B14: Kỳ báo cáo (05+06+07) | C14: Đồng | D14: 4 | G14: =G15+G16+G17 -> 0
A15: 1.1 | B15: Chi bộ, Đảng bộ bộ phận | C15: Đồng | D15: 5 | G15: =G11*0.3 -> 0
A16: 1.2 | B16: Tổ chức cơ sở Đảng | C16: Đồng | D16: 6
A17: 1.3 | B17: Các cấp trên cơ sở | C17: Đồng | D17: 7 | G17: =G11*0.7 -> 0
A18: 2 | B18: Từ đầu năm đến cuối kỳ báo cáo (09+10+11) | C18: Đồng | D18: 8 | G18: =G19+G20+G21 -> 6131362.8
A19: 2.1 | B19: Chi bộ, Đảng bộ bộ phận | C19: Đồng | D19: 9 | G19: =G12*0.3 -> 1839408.8
A20: 2.2 | B20: Tổ chức cơ sở Đảng | C20: Đồng | D20: 10
A21: 2.3 | B21: Các cấp trên cơ sở | C21: Đồng | D21: 11 | G21: =G12*0.7 -> 4291954
A22: IV | B22: Đảng phí nộp cấp trên của cấp báo cáo | C22: Đồng
A23: 1 | B23: Kỳ báo cáo (02-04) | C23: Đồng | D23: 12 | G23: =G17 -> 0
A24: 2 | B24: Từ đầu năm đến cuối kỳ báo cáo (03-08) | C24: Đồng | D24: 13 | G24: =G21 -> 4291954
A25: V | B25: Đảng phí còn nợ chưa nộp cấp trên đến cuối kỳ báo cáo | C25: Đồng | D25: 14
G26: Ngày tháng năm 2020
B27: Người lập | G27: T/M Cấp ủy
G28: Bí thư
B32: Đỗ Thị Thơm | G32: Đặng Thị Nhật Minh

Sheet thang 11
A1: ĐẢNG CỘNG SẢN ViỆT NAM
A2: Đơn vị báo cáo: Chi bộ 1
A3: Đơn vị nhận báo cáo: Đảng bộ trường CĐ Lý Tự Trọng
A4: BÁO CÁO THU, NỘP ĐẢNG PHÍ
A5: Tháng 11 năm 2020
A7: Số TT | B7: Chỉ tiêu | C7: Đơn vị tính | D7: Mã số | E7: Đảng bộ xã, phường, thị trấn | F7: Đảng bộ doanh nghiệp | G7: Đảng bộ khác | H7: Cộng | I7: Ghi chú
A8: A | B8: B | C8: C | D8: D | E8: 1 | F8: 2 | G8: 3 | H8: 4=1+2+3 | I8: E
A9: I | B9: Tổng số đảng viên đến cuối kỳ báo cáo | C9: Người | D9: 1
A10: II | B10: Đảng phí đã thu được từ chi bộ của cấp báo cáo | C10: Đồng
A11: 1 | B11: Kỳ báo cáo | C11: Đồng | D11: 2 | G11: ='Danh sách '!M19 -> 0
A12: 2 | B12: Từ đầu năm đến cuối kỳ báo cáo | C12: Đồng | D12: 3 | G12: ='thang 10'!G12+'thang 11'!G11 -> 6131362.8
A13: III | B13: Đảng phí trích giữ lại ở các cấp | C13: Đồng
A14: 1 | B14: Kỳ báo cáo (05+06+07) | C14: Đồng | D14: 4 | G14: =G15+G16+G17 -> 0
A15: 1.1 | B15: Chi bộ, Đảng bộ bộ phận | C15: Đồng | D15: 5 | G15: =G11*0.3 -> 0
A16: 1.2 | B16: Tổ chức cơ sở Đảng | C16: Đồng | D16: 6
A17: 1.3 | B17: Các cấp trên cơ sở | C17: Đồng | D17: 7 | G17: =G11*0.7 -> 0
A18: 2 | B18: Từ đầu năm đến cuối kỳ báo cáo (09+10+11) | C18: Đồng | D18: 8 | G18: =G19+G20+G21 -> 6131362.8
A19: 2.1 | B19: Chi bộ, Đảng bộ bộ phận | C19: Đồng | D19: 9 | G19: =G12*0.3 -> 1839408.8
A20: 2.2 | B20: Tổ chức cơ sở Đảng | C20: Đồng | D20: 10
A21: 2.3 | B21: Các cấp trên cơ sở | C21: Đồng | D21: 11 | G21: =G12*0.7 -> 4291954
A22: IV | B22: Đảng phí nộp cấp trên của cấp báo cáo | C22: Đồng
A23: 1 | B23: Kỳ báo cáo (02-04) | C23: Đồng | D23: 12 | G23: =G17 -> 0
A24: 2 | B24: Từ đầu năm đến cuối kỳ báo cáo (03-08) | C24: Đồng | D24: 13 | G24: =G21 -> 4291954
A25: V | B25: Đảng phí còn nợ chưa nộp cấp trên đến cuối kỳ báo cáo | C25: Đồng | D25: 14
G26: Ngày tháng năm 2020
B27: Người lập | G27: T/M Cấp ủy
G28: Bí thư
B32: Đỗ Thị Thơm | G32: Đặng Thị Nhật Minh

Sheet thang 12
A1: ĐẢNG CỘNG SẢN ViỆT NAM
A2: Đơn vị báo cáo: Chi bộ 1
A3: Đơn vị nhận báo cáo: Đảng bộ trường CĐ Lý Tự Trọng
A4: BÁO CÁO THU, NỘP ĐẢNG PHÍ
A5: Tháng 12 năm 2020
A7: Số TT | B7: Chỉ tiêu | C7: Đơn vị tính | D7: Mã số | E7: Đảng bộ xã, phường, thị trấn | F7: Đảng bộ doanh nghiệp | G7: Đảng bộ khác | H7: Cộng | I7: Ghi chú
A8: A | B8: B | C8: C | D8: D | E8: 1 | F8: 2 | G8: 3 | H8: 4=1+2+3 | I8: E
A9: I | B9: Tổng số đảng viên đến cuối kỳ báo cáo | C9: Người | D9: 1
A10: II | B10: Đảng phí đã thu được từ chi bộ của cấp báo cáo | C10: Đồng
A11: 1 | B11: Kỳ báo cáo | C11: Đồng | D11: 2 | G11: ='Danh sách '!N19 -> 0
A12: 2 | B12: Từ đầu năm đến cuối kỳ báo cáo | C12: Đồng | D12: 3 | G12: ='thang 11'!G12+'thang 12'!G11 -> 6131362.8
A13: III | B13: Đảng phí trích giữ lại ở các cấp | C13: Đồng
A14: 1 | B14: Kỳ báo cáo (05+06+07) | C14: Đồng | D14: 4 | G14: =G15+G16+G17 -> 0
A15: 1.1 | B15: Chi bộ, Đảng bộ bộ phận | C15: Đồng | D15: 5 | G15: =G11*0.3 -> 0
A16: 1.2 | B16: Tổ chức cơ sở Đảng | C16: Đồng | D16: 6
A17: 1.3 | B17: Các cấp trên cơ sở | C17: Đồng | D17: 7 | G17: =G11*0.7 -> 0
A18: 2 | B18: Từ đầu năm đến cuối kỳ báo cáo (09+10+11) | C18: Đồng | D18: 8 | G18: =G19+G20+G21 -> 6131362.8
A19: 2.1 | B19: Chi bộ, Đảng bộ bộ phận | C19: Đồng | D19: 9 | G19: =G12*0.3 -> 1839408.8
A20: 2.2 | B20: Tổ chức cơ sở Đảng | C20: Đồng | D20: 10
A21: 2.3 | B21: Các cấp trên cơ sở | C21: Đồng | D21: 11 | G21: =G12*0.7 -> 4291954
A22: IV | B22: Đảng phí nộp cấp trên của cấp báo cáo | C22: Đồng
A23: 1 | B23: Kỳ báo cáo (02-04) | C23: Đồng | D23: 12 | G23: =G17 -> 0
A24: 2 | B24: Từ đầu năm đến cuối kỳ báo cáo (03-08) | C24: Đồng | D24: 13 | G24: =G21 -> 4291954
A25: V | B25: Đảng phí còn nợ chưa nộp cấp trên đến cuối kỳ báo cáo | C25: Đồng | D25: 14
G26: Ngày tháng năm 2020
B27: Người lập | G27: T/M Cấp ủy
G28: Bí thư
B32: Đỗ Thị Thơm | G32: Đặng Thị Nhật Minh

Sheet Qui 4
A1: ĐẢNG CỘNG SẢN ViỆT NAM
A2: Đơn vị báo cáo: Chi bộ 1
A3: Đơn vị nhận báo cáo: Đảng bộ trường CĐ Lý Tự Trọng
A4: BÁO CÁO THU, NỘP ĐẢNG PHÍ
A5: Quí 04 năm 2020
A7: Số TT | B7: Chỉ tiêu | C7: Đơn vị tính | D7: Mã số | E7: Đảng bộ xã, phường, thị trấn | F7: Đảng bộ doanh nghiệp | G7: Đảng bộ khác | H7: Cộng | I7: Ghi chú
A8: A | B8: B | C8: C | D8: D | E8: 1 | F8: 2 | G8: 3 | H8: 4=1+2+3 | I8: E
A9: I | B9: Tổng số đảng viên đến cuối kỳ báo cáo | C9: Người | D9: 1
A10: II | B10: Đảng phí đã thu được từ chi bộ của cấp báo cáo | C10: Đồng
A11: 1 | B11: Kỳ báo cáo | C11: Đồng | D11: 2 | G11: ='thang 10'!G11+'thang 11'!G11+'thang 12'!G11 -> 0
A12: 2 | B12: Từ đầu năm đến cuối kỳ báo cáo | C12: Đồng | D12: 3 | G12: =G11+'Qui 3'!G12 -> 6131362.8
A13: III | B13: Đảng phí trích giữ lại ở các cấp | C13: Đồng
A14: 1 | B14: Kỳ báo cáo (05+06+07) | C14: Đồng | D14: 4 | G14: =G15+G16+G17 -> 0
A15: 1.1 | B15: Chi bộ, Đảng bộ bộ phận | C15: Đồng | D15: 5 | G15: =G11*0.3 -> 0
A16: 1.2 | B16: Tổ chức cơ sở Đảng | C16: Đồng | D16: 6
A17: 1.3 | B17: Các cấp trên cơ sở | C17: Đồng | D17: 7 | G17: =G11*0.7 -> 0
A18: 2 | B18: Từ đầu năm đến cuối kỳ báo cáo (09+10+11) | C18: Đồng | D18: 8 | G18: =G19+G20+G21 -> 6131362.8
A19: 2.1 | B19: Chi bộ, Đảng bộ bộ phận | C19: Đồng | D19: 9 | G19: =G12*0.3 -> 1839408.8
A20: 2.2 | B20: Tổ chức cơ sở Đảng | C20: Đồng | D20: 10
A21: 2.3 | B21: Các cấp trên cơ sở | C21: Đồng | D21: 11 | G21: =G12*0.7 -> 4291954
A22: IV | B22: Đảng phí nộp cấp trên của cấp báo cáo | C22: Đồng
A23: 1 | B23: Kỳ báo cáo (02-04) | C23: Đồng | D23: 12 | G23: =G17 -> 0
A24: 2 | B24: Từ đầu năm đến cuối kỳ báo cáo (03-08) | C24: Đồng | D24: 13 | G24: =G21 -> 4291954
A25: V | B25: Đảng phí còn nợ chưa nộp cấp trên đến cuối kỳ báo cáo | C25: Đồng | D25: 14
G26: Ngày tháng năm 2020
B27: Người lập | G27: T/M Cấp ủy
G28: Bí thư
B31: Đỗ Thị Thơm | G31: Đặng Thị Nhật Minh
